BEGIN:VCALENDAR
VERSION:2.0
PRODID:-//hacksw/handcal//NONSGML v1.0//EN
CALSCALE:GREGORIAN
BEGIN:VEVENT
SUMMARY:What does the UK’s Integrated Review of Security\, Defence\, Development and Foreign Policy mean for Euro-Atlantic cooperation?
DESCRIPTION:What does the UK’s Integrated Review of Security\, Defence\, Development and Foreign Policy mean for Euro-Atlantic cooperation?
DTSTART:20210330T150000Z
DTEND:20210330T160000Z
URL;VALUE=URI:https://www.friendsofeurope.org/events/what-does-the-uks-integrated-review-of-security-defence-development-and-foreign-policy-mean-for-euro-atlantic-cooperation/
DTSTAMP:20260420T135432Z
UID:69e630180c284
END:VEVENT
END:VCALENDAR