BEGIN:VCALENDAR
VERSION:2.0
PRODID:-//hacksw/handcal//NONSGML v1.0//EN
CALSCALE:GREGORIAN
BEGIN:VEVENT
SUMMARY:Unaccompanied migrant children: a travesty of EU values
DESCRIPTION:Unaccompanied migrant children: a travesty of EU values
DTSTART:20200707T070000Z
DTEND:20200707T072000Z
URL;VALUE=URI:https://www.friendsofeurope.org/events/unaccompanied-migrant-children-a-travesty-of-eu-values/
DTSTAMP:20260423T065933Z
UID:69e9c35531e87
END:VEVENT
END:VCALENDAR