BEGIN:VCALENDAR
VERSION:2.0
PRODID:-//hacksw/handcal//NONSGML v1.0//EN
CALSCALE:GREGORIAN
BEGIN:VEVENT
SUMMARY:Turning regulation into leadership: Europe’s path to healthcare AI excellence
DESCRIPTION:Turning regulation into leadership: Europe’s path to healthcare AI excellence
DTSTART:20251105T183000Z
DTEND:20251105T203000Z
URL;VALUE=URI:https://www.friendsofeurope.org/events/turning-regulation-into-leadership-europes-path-to-healthcare-ai-excellence/
DTSTAMP:20260420T072114Z
UID:69e5d3ea48e10
END:VEVENT
END:VCALENDAR