BEGIN:VCALENDAR
VERSION:2.0
PRODID:-//hacksw/handcal//NONSGML v1.0//EN
CALSCALE:GREGORIAN
BEGIN:VEVENT
SUMMARY:Towards the 2021 UN Summit on Food Systems: an enhanced Africa-Europe partnership on sustainable agriculture
DESCRIPTION:Towards the 2021 UN Summit on Food Systems: an enhanced Africa-Europe partnership on sustainable agriculture
DTSTART:20201203T160000Z
DTEND:20201203T170000Z
URL;VALUE=URI:https://www.friendsofeurope.org/events/towards-the-2021-un-food-systems-summit-an-enhanced-africa-europe-partnership-on-sustainable-agriculture/
DTSTAMP:20260421T235456Z
UID:69e80e50639a4
END:VEVENT
END:VCALENDAR