BEGIN:VCALENDAR
VERSION:2.0
PRODID:-//hacksw/handcal//NONSGML v1.0//EN
CALSCALE:GREGORIAN
BEGIN:VEVENT
SUMMARY:Poland and the future of European defence: Warsaw Security Forum
DESCRIPTION:Poland and the future of European defence: Warsaw Security Forum
DTSTART:20181025T110000Z
DTEND:20181025T121500Z
URL;VALUE=URI:https://www.friendsofeurope.org/events/poland-and-the-future-of-european-defence-warsaw-security-forum/
DTSTAMP:20260420T175059Z
UID:69e667831090d
END:VEVENT
END:VCALENDAR