BEGIN:VCALENDAR
VERSION:2.0
PRODID:-//hacksw/handcal//NONSGML v1.0//EN
CALSCALE:GREGORIAN
BEGIN:VEVENT
SUMMARY:Peace\, Security and Defence Summit – Europe after February 24th: how secure is it?
DESCRIPTION:Peace\, Security and Defence Summit – Europe after February 24th: how secure is it?
DTSTART:20221117T100000Z
DTEND:20221117T110000Z
URL;VALUE=URI:https://www.friendsofeurope.org/events/peace-security-and-defence-summit/
DTSTAMP:20260422T205139Z
UID:69e934db25edb
END:VEVENT
END:VCALENDAR