BEGIN:VCALENDAR
VERSION:2.0
PRODID:-//hacksw/handcal//NONSGML v1.0//EN
CALSCALE:GREGORIAN
BEGIN:VEVENT
SUMMARY:Europe's to-do list: realigning perspectives on the European project
DESCRIPTION:Europe's to-do list: realigning perspectives on the European project
DTSTART:20260508T150000Z
DTEND:20260508T153000Z
URL;VALUE=URI:https://www.friendsofeurope.org/events/europes-to-do-list-realigning-perspectives-on-the-european-project/
DTSTAMP:20260421T055745Z
UID:69e711d984fd6
END:VEVENT
END:VCALENDAR