BEGIN:VCALENDAR
VERSION:2.0
PRODID:-//hacksw/handcal//NONSGML v1.0//EN
CALSCALE:GREGORIAN
BEGIN:VEVENT
SUMMARY:Europe's to-do list: realigning perspectives on the European project
DESCRIPTION:Europe's to-do list: realigning perspectives on the European project
DTSTART:20260507T121500Z
DTEND:20260507T131500Z
URL;VALUE=URI:https://www.friendsofeurope.org/events/europes-to-do-list-realigning-perspectives-on-the-european-project/
DTSTAMP:20260421T055841Z
UID:69e712113d2a4
END:VEVENT
END:VCALENDAR