BEGIN:VCALENDAR
VERSION:2.0
PRODID:-//hacksw/handcal//NONSGML v1.0//EN
CALSCALE:GREGORIAN
BEGIN:VEVENT
SUMMARY:How democracy ends (and begins again)
DESCRIPTION:How democracy ends (and begins again)
DTSTART:20250523T100000Z
DTEND:20250523T113000Z
URL;VALUE=URI:https://www.friendsofeurope.org/events/european-young-leaders-eyl40-bucharest-seminar/
DTSTAMP:20260420T125938Z
UID:69e6233a794ca
END:VEVENT
END:VCALENDAR