BEGIN:VCALENDAR
VERSION:2.0
PRODID:-//hacksw/handcal//NONSGML v1.0//EN
CALSCALE:GREGORIAN
BEGIN:VEVENT
SUMMARY:The European Health Data Space (EHDS) - Building a path for rare diseases and learning from its experience
DESCRIPTION:The European Health Data Space (EHDS) - Building a path for rare diseases and learning from its experience
DTSTART:20211108T130000Z
DTEND:20211108T140000Z
URL;VALUE=URI:https://www.friendsofeurope.org/events/building-a-path-for-rare-diseases-in-the-european-health-data-space/
DTSTAMP:20260423T005629Z
UID:69e96e3db1439
END:VEVENT
END:VCALENDAR