BEGIN:VCALENDAR
VERSION:2.0
PRODID:-//hacksw/handcal//NONSGML v1.0//EN
CALSCALE:GREGORIAN
BEGIN:VEVENT
SUMMARY:Health\, welfare and prosperity: an EU-Africa partnership for a people-centred approach to human development
DESCRIPTION:Health\, welfare and prosperity: an EU-Africa partnership for a people-centred approach to human development
DTSTART:20200924T130000Z
DTEND:20200924T140000Z
URL;VALUE=URI:https://www.friendsofeurope.org/events/beyond-borders-an-eu-africa-partnership-for-a-people-centered-approach-to-migration-mobility-and-human-development/
DTSTAMP:20260423T082534Z
UID:69e9d77ef2bf3
END:VEVENT
END:VCALENDAR