BEGIN:VCALENDAR
VERSION:2.0
PRODID:-//hacksw/handcal//NONSGML v1.0//EN
CALSCALE:GREGORIAN
BEGIN:VEVENT
SUMMARY:Accelerating Sustainable Energy for All: Africa-Europe relations post-covid and in the face of the climate emergency
DESCRIPTION:Accelerating Sustainable Energy for All: Africa-Europe relations post-covid and in the face of the climate emergency
DTSTART:20201202T100000Z
DTEND:20201202T113000Z
URL;VALUE=URI:https://www.friendsofeurope.org/events/accelerating-sustainable-energy-for-all-africa-europe-relations-post-covid-and-in-the-face-of-the-climate-emergency/
DTSTAMP:20260421T235456Z
UID:69e80e509bb41
END:VEVENT
END:VCALENDAR